BEGIN:VCALENDAR
VERSION:2.0
PRODID:-//ChamberMaster//Event Calendar 2.0//EN
METHOD:PUBLISH
X-PUBLISHED-TTL:P3D
REFRESH-INTERVAL:P3D
CALSCALE:GREGORIAN
BEGIN:VEVENT
DTSTART:20180609T223000Z
DTEND:20180610T021500Z
X-MICROSOFT-CDO-ALLDAYEVENT:FALSE
SUMMARY:2018 Opening Night of The Stephen Foster Story
DESCRIPTION:Join us at the amphitheater in Bardstown for the 60th opening night performance of The Stephen Foster Story! Pre-show festivities begin at 6:30pm just outside the theatre\, featuring live music\, food & beverages for purchase\, cast meet & greet\, and more! Showtime 8pm. Tickets begin at only $22.50 for adults and $13.50 for children ages 6 -12. To reserve your seats and find out more information\, visit stephenfoster.com/tickets or call 800.626.1563. Be sure to ask about AAA\, Senior\, & Nelson County resident discounts!
X-ALT-DESC;FMTTYPE=text/html:<span style="color: rgb(75\, 79\, 86)\; font-family: Helvetica\, Arial\, sans-serif\; font-size: 14px\; background-color: rgb(255\, 255\, 255)\;">Join us at the amphitheater in Bardstown for the 60th opening night performance of The Stephen Foster Story! Pre-show festivities begin at 6:30pm just outside the theatre\, featuring live music\, food &amp\; beverages for purchase\, cast meet &amp\; greet\, and more! Showtime 8pm. Tickets begin at only $22.50 for adults and $13.50 for children ages 6 -12. To reserve your seats and find out more information\, visit&nbsp\;</span><a data-lynx-mode="asynclazy" data-lynx-uri="https://l.facebook.com/l.php?u=http%3A%2F%2Fstephenfoster.com%2Ftickets&amp\;h=ATPzc6ArgWWBxljqEr_LMA2vTDb9HdQ070Q1UM5Ym7BCzJ9qZ0AHhpfPyji37ncQN4IETFMEJlAIJOgyelyEZoWa8RH8lwycizrGmwBB4RBq8dpR6bk" href="http://stephenfoster.com/tickets" rel="nofollow noopener" style="color: rgb(54\, 88\, 153)\; cursor: pointer\; text-decoration-line: none\; font-family: Helvetica\, Arial\, sans-serif\; font-size: 14px\; background-color: rgb(255\, 255\, 255)\;" target="_blank">stephenfoster.com/tickets</a><span style="color: rgb(75\, 79\, 86)\; font-family: Helvetica\, Arial\, sans-serif\; font-size: 14px\; background-color: rgb(255\, 255\, 255)\;">&nbsp\;or call 800.626.1563. Be sure to ask about AAA\, Senior\, &amp\; Nelson County resident discounts!</span>
LOCATION:
UID:e.2912.1468
SEQUENCE:3
DTSTAMP:20260420T011116Z
URL:https://members.bardstownchamber.com/events/details/2018-opening-night-of-the-stephen-foster-story-1468
END:VEVENT

END:VCALENDAR
