BEGIN:VCALENDAR
VERSION:2.0
PRODID:-//ChamberMaster//Event Calendar 2.0//EN
METHOD:PUBLISH
X-PUBLISHED-TTL:P3D
REFRESH-INTERVAL:P3D
CALSCALE:GREGORIAN
BEGIN:VEVENT
DTSTART:20180707T230000Z
DTEND:20180708T030000Z
X-MICROSOFT-CDO-ALLDAYEVENT:FALSE
SUMMARY:2018 Bourbon City Street Concert
DESCRIPTION:The 2018 Bourbon City Street Concert presented by Jim Beam and WesBanco will be held on July 7th in the heart of downtown Bardstown! Enjoy a summer evening full of good music\, food/ drink and even better company. The concert will shut down the first two blocks of N Third Street from 1:00 PM to 12:00 AM and the concert will be 7:00p to 11:30p. We can't wait to see you in July!
X-ALT-DESC;FMTTYPE=text/html:<span style="color: rgb(29\, 33\, 41)\; font-family: Helvetica\, Arial\, sans-serif\; font-size: 14px\; background-color: rgb(255\, 255\, 255)\;">The 2018 Bourbon City Street Concert presented by Jim Beam and WesBanco will be held on July 7th in the heart of downtown Bardstown! Enjoy a summer evening full of good music\, food/ drink and even better company. The concert will shut down the first two blocks of N Third Street from 1:00 PM to 12:00 AM and the concert will be 7:00p to 11:30p. We can&#39\;t wait to see you in July!</span>
LOCATION:
UID:e.2912.1508
SEQUENCE:3
DTSTAMP:20260420T000223Z
URL:https://members.bardstownchamber.com/events/details/2018-bourbon-city-street-concert-1508
END:VEVENT

END:VCALENDAR
