BEGIN:VCALENDAR
VERSION:2.0
PRODID:-//ChamberMaster//Event Calendar 2.0//EN
METHOD:PUBLISH
X-PUBLISHED-TTL:P3D
REFRESH-INTERVAL:P3D
CALSCALE:GREGORIAN
BEGIN:VEVENT
DTSTART:20180914T180000Z
DTEND:20180914T200000Z
X-MICROSOFT-CDO-ALLDAYEVENT:FALSE
SUMMARY:2018 Bardstown Blind Bourbon Tasting Competition
DESCRIPTION:Shop Local Bardstown and The Talbott Tavern proudly present the 2018 Bardstown Bourbon Blind Tasting Championship during the 2018 Bourbon Festival! Think you have what it takes to be named The Bourbon Capitol of the World's tasting champion? Enter today! The Championship will consist of 3 rounds and points will be awarded for naming the distillery\, proof\, and brand of bourbon being sampled! Prizes such as distillery tours and memorabilia will be awarded! Earn bragging rights for the year as Bardstown's Tasting Champion! For more information\, contact the Talbott Tavern! Entry fee to the competition will be $10 and spectators are welcome with no admission fee! Cash bar and specialty cocktails provided by the Talbott Tavern! The competition will be held at 2 PM on Friday\, Sept 14th! The number of participants is limited so contact The Talbott Tavern today!
X-ALT-DESC;FMTTYPE=text/html:Shop Local Bardstown and The Talbott Tavern proudly present the 2018 Bardstown Bourbon Blind Tasting Championship during the 2018 Bourbon Festival! Think you have what it takes to be named The Bourbon Capitol of the World&rsquo\;s tasting champion? Enter today! The Championship will consist of 3 rounds and points will be awarded for naming the distillery\, proof\, and brand of bourbon being sampled! Prizes such as distillery tours and memorabilia will be awarded! Earn bragging rights for the year as Bardstown&rsquo\;s Tasting Champion! For more information\, contact the Talbott Tavern! Entry fee to the competition will be $10 and spectators are welcome with no admission fee! Cash bar and specialty cocktails provided by the Talbott Tavern! The competition will be held at 2 PM on Friday\, Sept 14th! The number of participants is limited so contact The Talbott Tavern today!
LOCATION:Talbott Tavern
UID:e.2912.1561
SEQUENCE:3
DTSTAMP:20260419T195043Z
URL:https://members.bardstownchamber.com/events/details/2018-bardstown-blind-bourbon-tasting-competition-1561
END:VEVENT

END:VCALENDAR
