BEGIN:VCALENDAR
VERSION:2.0
PRODID:-//ChamberMaster//Event Calendar 2.0//EN
METHOD:PUBLISH
X-PUBLISHED-TTL:P3D
REFRESH-INTERVAL:P3D
CALSCALE:GREGORIAN
BEGIN:VEVENT
DTSTART:20181017T130000Z
DTEND:20181017T173000Z
X-MICROSOFT-CDO-ALLDAYEVENT:FALSE
SUMMARY:2018 / 2019 Young Leaders- October
DESCRIPTION:Agriculture Day\n\n8:30   9:00            Students will be picked up at each school \n\n9:00   9:30            Nelson County Extension Office   Agriculture Day Introduction        \n\n \n\n9:30   9:45            Travel\n\n \n\n9:45   10:30          Bischoff Farms   Dairy beef and Forage   \n\n \n\n10:30   11:00       Travel\n\n \n\n11:00   11:30        Mayer Fish Farms\n\n \n\n11:30   12:00       Travel  \n\n \n\n12:00   1:30          W Ranch (Adam & Sarah Wheatley) Beef and Forage\, Lunch (W\n\n                               Ranch)\, \n\n \n\n1:30                        Return to school                              \n\n\n\n\n\nPlease check the weather forecast as you may need a jacket and/or umbrella \n\nStudents are asked to wear their T-shirts and bring their water bottle.
X-ALT-DESC;FMTTYPE=text/html:<p><font face="arial"><span style="font-size: 18px\;"><b>Agriculture Day</b></span></font><br />\n<strong><span style="font-size:14px\;"><span style="font-family:arial\;">8:30&nbsp\;&ndash\; 9:00</span></span>&nbsp\;</strong>&nbsp\;&nbsp\;&nbsp\; &nbsp\; &nbsp\; &nbsp\;&nbsp\;<span style="font-size:14px\;"><span style="font-family:arial\;">&nbsp\;<strong>Students will be picked up at each school&nbsp\;</strong><br />\n<strong>9:00 &ndash\; 9:30&nbsp\;&nbsp\;&nbsp\;&nbsp\;&nbsp\;&nbsp\;</strong></span></span>&nbsp\;&nbsp\;&nbsp\;&nbsp\;<span style="font-size:14px\;"><span style="font-family:arial\;"><strong> &nbsp\;Nelson County Extension Office &ndash\; Agriculture Day Introduction&nbsp\;&nbsp\;&nbsp\; &nbsp\;&nbsp\;&nbsp\;&nbsp\;</strong><br />\n&nbsp\;<br />\n<strong>9:30 &ndash\; 9:45&nbsp\; &nbsp\;&nbsp\;&nbsp\;&nbsp\;</strong></span></span>&nbsp\;&nbsp\;&nbsp\;&nbsp\;<span style="font-size:14px\;"><span style="font-family:arial\;"><strong>&nbsp\;&nbsp\;Travel</strong><br />\n&nbsp\;<br />\n<strong>9:45 &ndash\; 10:30 &nbsp\;&nbsp\;&nbsp\;&nbsp\;</strong></span></span>&nbsp\;&nbsp\;&nbsp\;&nbsp\;<span style="font-size:14px\;"><span style="font-family:arial\;"><strong>&nbsp\;Bischoff Farms &ndash\; Dairy beef and Forage &nbsp\;&nbsp\;</strong><br />\n&nbsp\;<br />\n<strong>10:30 &ndash\; 11:00 &nbsp\;</strong></span></span>&nbsp\;&nbsp\;&nbsp\;&nbsp\;<span style="font-size:14px\;"><span style="font-family:arial\;"><strong>&nbsp\;Travel</strong><br />\n&nbsp\;<br />\n<strong>11:00 &ndash\; 11:30&nbsp\;&nbsp\;</strong></span></span>&nbsp\;&nbsp\;&nbsp\;&nbsp\;<span style="font-size:14px\;"><span style="font-family:arial\;"><strong>&nbsp\; Mayer Fish Farms</strong><br />\n&nbsp\;<br />\n<strong>11:30 &ndash\; 12:00&nbsp\;&nbsp\;</strong></span></span>&nbsp\;&nbsp\;&nbsp\;&nbsp\;<span style="font-size:14px\;"><span style="font-family:arial\;"><strong> Travel&nbsp\; </strong><br />\n&nbsp\;<br />\n<strong>12:00 &ndash\; 1:30&nbsp\;&nbsp\; &nbsp\;</strong></span></span>&nbsp\;&nbsp\;&nbsp\;&nbsp\;<span style="font-size:14px\;"><span style="font-family:arial\;"><strong>&nbsp\;&nbsp\;W Ranch (Adam &amp\; Sarah Wheatley) Beef and Forage\, Lunch (W</strong><br />\n<strong>&nbsp\;&nbsp\;&nbsp\;&nbsp\;&nbsp\;&nbsp\;&nbsp\;&nbsp\;&nbsp\;&nbsp\;&nbsp\;&nbsp\;&nbsp\;&nbsp\;&nbsp\;&nbsp\;&nbsp\;&nbsp\;&nbsp\;&nbsp\;&nbsp\;&nbsp\;&nbsp\;&nbsp\;&nbsp\;</strong></span></span>&nbsp\;&nbsp\;&nbsp\;&nbsp\;<span style="font-size:14px\;"><span style="font-family:arial\;"><strong> &nbsp\;Ranch)\, </strong><br />\n&nbsp\;</span></span><br />\n<strong><span style="font-size:14px\;"><span style="font-family:arial\;">1:30&nbsp\;&nbsp\;&nbsp\;&nbsp\;&nbsp\;&nbsp\;&nbsp\;&nbsp\;&nbsp\;&nbsp\; &nbsp\;&nbsp\;&nbsp\;&nbsp\;&nbsp\;&nbsp\;&nbsp\;&nbsp\;</span></span></strong>&nbsp\;&nbsp\;&nbsp\;&nbsp\;<strong><span style="font-size:14px\;"><span style="font-family:arial\;">&nbsp\;Return to school&nbsp\;&nbsp\;&nbsp\;&nbsp\;&nbsp\;&nbsp\;&nbsp\;&nbsp\;&nbsp\;&nbsp\;</span></span>&nbsp\;&nbsp\;&nbsp\;&nbsp\;&nbsp\;&nbsp\;&nbsp\;&nbsp\;&nbsp\;&nbsp\;&nbsp\;&nbsp\;&nbsp\;&nbsp\;&nbsp\;&nbsp\;&nbsp\;&nbsp\;&nbsp\; </strong><br />\n<br />\n<br />\n<span style="font-size:16px\;"><span style="font-weight:bold\;language:en-US\;"><span style="font-family:calibri\;">Please check the weather forecast as you may need a jacket and/or umbrella </span></span><br />\n<span style="font-weight:bold\;language:en-US\;"><span style="font-family:calibri\;">Students are asked to wear their T-shirts and bring their water bottle.</span></span></span></p>\n
LOCATION:
UID:e.2912.1603
SEQUENCE:3
DTSTAMP:20260419T181627Z
URL:https://members.bardstownchamber.com/events/details/2018-2019-young-leaders-october-1603
END:VEVENT

END:VCALENDAR
