BEGIN:VCALENDAR
VERSION:2.0
PRODID:-//ChamberMaster//Event Calendar 2.0//EN
METHOD:PUBLISH
X-PUBLISHED-TTL:P3D
REFRESH-INTERVAL:P3D
CALSCALE:GREGORIAN
BEGIN:VEVENT
DTSTART:20190424T130000Z
DTEND:20190424T173000Z
X-MICROSOFT-CDO-ALLDAYEVENT:FALSE
SUMMARY:2018 / 2019 Young Leaders- April
DESCRIPTION:Volunteerism\n\nWednesday\, April 4 \, 2019\n\n \n\n \n\n8:30    9:00 a.m.                   Students will be picked up at each school\n\n9:00 a.m.   Noon                  Feed America\n\nNoon- 1: 30 pm.                       Travel and Lunch at McDonalds\n\n\n\n\n\nStudents are asked to wear their T-shirts \n\nAny questions\, please call  or text Lisa Thomas at the Chamber of Commerce\, 502-827-9968
X-ALT-DESC;FMTTYPE=text/html:<div><font face="calibri"><span style="font-size: 21.3333px\;"><b>Volunteerism</b></span></font><br />\n<span style="language:en-US\;"><span style="font-family:calibri\;"><span style="font-size:12.0pt\;">Wednesday\, April 4 \, 2019</span></span></span><br />\n&nbsp\;<br />\n&nbsp\;<br />\n<span style="text-indent:-144pt\;"><span style="font-size:12pt\;"><span style="font-family:calibri\;">8:30</span></span></span>&nbsp\; <span style="text-indent:-144pt\;"><span style="font-size:12pt\;"><span style="font-family:calibri\;">&ndash\; 9:00 a.m. </span></span></span>&nbsp\; &nbsp\;&nbsp\;&nbsp\;&nbsp\;&nbsp\;&nbsp\; &nbsp\; &nbsp\; &nbsp\; &nbsp\; &nbsp\;<span style="text-indent:-144pt\;"><span style="font-size:12pt\;"><span style="font-family:calibri\;">Students will be picked up at each school</span></span></span><br />\n<span style="language:en-US\;"><span style="font-family:calibri\;"><span style="font-size:12.0pt\;">9:00 a.m. &ndash\; Noon</span></span></span>&nbsp\;&nbsp\;&nbsp\;&nbsp\;&nbsp\;&nbsp\;&nbsp\;&nbsp\; &nbsp\; &nbsp\;&nbsp\;&nbsp\; &nbsp\; &nbsp\;Feed America<br />\nNoon- 1: 30 pm.&nbsp\;&nbsp\;&nbsp\;&nbsp\;&nbsp\;&nbsp\;&nbsp\;&nbsp\;&nbsp\;&nbsp\;&nbsp\;&nbsp\;&nbsp\;&nbsp\;&nbsp\;&nbsp\;&nbsp\;&nbsp\;&nbsp\;&nbsp\;&nbsp\;&nbsp\; Travel and Lunch at McDonalds<br />\n<br />\n<br />\n<span style="font-weight:bold\;language:en-US\;"><span style="font-family:calibri\;"><span style="font-size:12.0pt\;">Students are asked to wear their T-shirts&nbsp\;</span></span></span><br />\n<span style="font-weight:bold\;language:en-US\;"><span style="font-family:calibri\;"><span style="font-size:12.0pt\;">Any questions\, please call&nbsp\; or text Lisa Thomas at the Chamber of Commerce\, 502-827-9968</span></span></span></div>\n&nbsp\;<br />\n<br />\n&nbsp\;<br />\n&nbsp\;
LOCATION:
UID:e.2912.1541
SEQUENCE:3
DTSTAMP:20260419T083442Z
URL:https://members.bardstownchamber.com/events/details/2018-2019-young-leaders-april-1541
END:VEVENT

END:VCALENDAR
