BEGIN:VCALENDAR
VERSION:2.0
PRODID:-//ChamberMaster//Event Calendar 2.0//EN
METHOD:PUBLISH
X-PUBLISHED-TTL:P3D
REFRESH-INTERVAL:P3D
CALSCALE:GREGORIAN
BEGIN:VEVENT
DTSTART:20170616T120000Z
DTEND:20170616T180000Z
X-MICROSOFT-CDO-ALLDAYEVENT:FALSE
SUMMARY:2017 Golf Classic
DESCRIPTION:Registration starts at 7am and tee off at 8 am!  The annual Golf Classic Pro Package includes Lunch\, Putting Contest\, 4 Drink Tickets\, Green Fees\, Carts\, Contests\, and Refreshments!  Don't miss out on the "BEST Golf Swag Bag in Bardstown" along with several awesome prizes!
X-ALT-DESC;FMTTYPE=text/html:Registration starts at 7am and tee off at 8 am! &nbsp\;The annual Golf Classic Pro Package includes Lunch\, Putting Contest\, 4 Drink Tickets\, Green Fees\, Carts\, Contests\, and Refreshments! &nbsp\;Don&#39\;t miss out on the &quot\;BEST Golf Swag Bag in Bardstown&quot\; along with several awesome prizes! &nbsp\;
LOCATION:My Old Kentucky Home State Park
UID:e.2912.366
SEQUENCE:3
DTSTAMP:20260424T143553Z
URL:https://members.bardstownchamber.com/events/details/2017-golf-classic-366
END:VEVENT

END:VCALENDAR
