BEGIN:VCALENDAR
VERSION:2.0
PRODID:-//ChamberMaster//Event Calendar 2.0//EN
METHOD:PUBLISH
X-PUBLISHED-TTL:P3D
REFRESH-INTERVAL:P3D
CALSCALE:GREGORIAN
BEGIN:VEVENT
DTSTART:20171207T230000Z
DTEND:20171208T003000Z
X-MICROSOFT-CDO-ALLDAYEVENT:FALSE
SUMMARY:2017 Bardstown Christmas Parade "A Storybook Christmas"
DESCRIPTION:The Bardstown Christmas Parade is an annual event held on the first Thursday of December. Grand Marshall for this year's event will be Leigh Ann Florence. Mrs. Florence is a KY Children's author and most kids know her books about Woody the Weiner Dog.
X-ALT-DESC;FMTTYPE=text/html:The Bardstown Christmas Parade is an annual event held on the first Thursday of December. Grand Marshall for this year&#39\;s event will be Leigh Ann Florence. Mrs. Florence is a KY Children&#39\;s author and most kids know her books about Woody the Weiner Dog.
LOCATION:Downtown Bardstown
UID:e.2912.1391
SEQUENCE:3
DTSTAMP:20260422T081910Z
URL:https://members.bardstownchamber.com/events/details/2017-bardstown-christmas-parade-a-storybook-christmas-1391
END:VEVENT

END:VCALENDAR
