BEGIN:VCALENDAR
VERSION:2.0
PRODID:-//ChamberMaster//Event Calendar 2.0//EN
METHOD:PUBLISH
X-PUBLISHED-TTL:P3D
REFRESH-INTERVAL:P3D
CALSCALE:GREGORIAN
BEGIN:VEVENT
DTSTART;VALUE=DATE:20190927
DTEND;VALUE=DATE:20190929
TRANSP:TRANSPARENT
X-MICROSOFT-CDO-ALLDAYEVENT:TRUE
SUMMARY:10 year celebration at peacock On Third
DESCRIPTION:It's happening this weekend at the Peacock on Third! We're celebrating 10 years of fabulous! Friday (27th) and Saturday (28th)\, we'll be celebrating our 10 year anniversary with all of our fabulous customers! Door prizes\, Sorrelli Giveaways\, Gift Cards and more this weekend only to thank you for being with us all the way through!\n\nCome help us celebrate all weekend long! Friday\, September 27th and Saturday\, September 28th from 10:00 to 5:30!\n\nWe can't wait to see you there!
X-ALT-DESC;FMTTYPE=text/html:<p style="margin: 0px 0px 6px\; font-family: Helvetica\, Arial\, sans-serif\; color: rgb(29\, 33\, 41)\; font-size: 14px\; background-color: rgb(255\, 255\, 255)\;">It&#39\;s happening this weekend at the Peacock on Third! We&#39\;re celebrating 10 years of fabulous! Friday (27th) and Saturday (28th)\, we&#39\;ll be celebrating our 10 year anniversary with all of our fabulous customers! Door prizes\, Sorrelli Giveaways\, Gift Cards and more this weekend only to thank you for being with us all the way through!</p>\n\n<p style="margin: 6px 0px\; font-family: Helvetica\, Arial\, sans-serif\; color: rgb(29\, 33\, 41)\; font-size: 14px\; background-color: rgb(255\, 255\, 255)\;">Come help us celebrate all weekend long! Friday\, September 27th and Saturday\, September 28th from 10:00 to 5:30!</p>\n\n<p style="margin: 6px 0px 0px\; display: inline\; font-family: Helvetica\, Arial\, sans-serif\; color: rgb(29\, 33\, 41)\; font-size: 14px\; background-color: rgb(255\, 255\, 255)\;">We can&#39\;t wait to see you there!</p>\n
LOCATION:
UID:e.2912.1802
SEQUENCE:3
DTSTAMP:20260419T132631Z
URL:https://members.bardstownchamber.com/events/details/10-year-celebration-at-peacock-on-third-1802
END:VEVENT

END:VCALENDAR
